Workbook

Sheet lig_bilgileri
D5: PUAN DURUMU RESMİ
AS6: EV SAHİBİ TAKIM LOGO | BM6: MİSAFİR TAKIM LOGO
AS13: =form!D22 -> 0
AS15: =form!K26 -> 0
AS17: MÜSABAKA BİLGİSİ RESMİ
D24: FİKSTÜR RESMİ
BG35: -

Sheet form
AQ4: HAKEM | BO4: HAKEM RESİM
P6: GÜN
AQ8: Lisans No | AX8: Bölge | BI8: Klasman
P10: AY
AQ11: Mail:
AQ12: Telefon Numarası:
D13: STAD | P13: YIL | Z13: LiG
AQ14: 1. YARDIMCI HAKEM | BO14: 1.Y.H. RESİM
P16: KARŞILIĞI
D17: MAÇ NO | J17: SAAT | Z17: HAFTA | AF17: DEVRE
AQ18: Lisans No | AX18: Bölge | BI18: Klasman
AQ22: 2. YARDIMCI HAKEM | BO22: 2.Y.H. RESİM
AQ26: Lisans No | AX26: Bölge | BI26: Klasman
L30: =D22 -> 0 | Y30: =K26 -> 0 | AQ30: 4. HAKEM | BO30: 4. HAKEM RESİM
D31: İHTAR
D33: İHRAÇ
AQ34: Lisans No | AX34: Bölge | BI34: Klasman
D35: GOL
D38: T.F.F.H.G.D. KONYA | AQ38: HAKEMLERİMİZE BAŞARILAR DİLERİZ

Sheet basin
D4: STAD | Q4: =+form!$P$6 -> GÜN | W4: LiG
D5: =form!$D$14 -> 0 | W5: =form!$Z$14 -> 0
P6: =form!$P$10 -> AY
D7: MAÇ NO | J7: SAAT | P7: =form!$P$13 -> YIL | W7: HAFTA | AC7: DEVRE
D8: =form!$D$18 -> 0 | J8: =form!$J$18 -> 0 | P8: =form!$P$16 -> KARŞILIĞI | W8: =form!$Z$18 -> 0 | AC8: =form!$AF$18 -> 0
D10: =form!$D$22 -> 0
D13: =form!$K$26 -> 0
D16: HAKEMLER | V16: BÖLGE | AC16: KLASMAN
G17: =form!$AT$5 -> 0 | V17: =form!$AX$9 -> 0 | AC17: =form!$BI$9 -> 0
G19: =form!$AT$15 -> 0 | V19: =form!$AX$19 -> 0 | AC19: =form!$BI$19 -> 0
G21: =form!$AT$23 -> 0 | V21: =form!$AX$27 -> 0 | AC21: =form!$BI$27 -> 0
G23: =form!$AT$31 -> 0 | V23: =form!$AX$35 -> 0 | AC23: =form!$BI$35 -> 0
D25: T.F.F.H.G.D. KONYA
D35: STAD | Q35: =+form!$P$6 -> GÜN | W35: LiG
D36: =form!$D$14 -> 0 | W36: =form!$Z$14 -> 0
P37: =form!$P$10 -> AY
D38: MAÇ NO | J38: SAAT | P38: =form!$P$13 -> YIL | W38: HAFTA | AC38: DEVRE
D39: =form!$D$18 -> 0 | J39: =form!$J$18 -> 0 | P39: =form!$P$16 -> KARŞILIĞI | W39: =form!$Z$18 -> 0 | AC39: =form!$AF$18 -> 0
D41: =form!$D$22 -> 0
D44: =form!$K$26 -> 0
D47: HAKEMLER | V47: BÖLGE | AC47: KLASMAN
G48: =form!$AT$5 -> 0 | V48: =form!$AX$9 -> 0 | AC48: =form!$BI$9 -> 0
G50: =form!$AT$15 -> 0 | V50: =form!$AX$19 -> 0 | AC50: =form!$BI$19 -> 0
G52: =form!$AT$23 -> 0 | V52: =form!$AX$27 -> 0 | AC52: =form!$BI$27 -> 0
G54: =form!$AT$31 -> 0 | V54: =form!$AX$35 -> 0 | AC54: =form!$BI$35 -> 0
D56: T.F.F.H.G.D. KONYA
D66: STAD | Q66: =+form!$P$6 -> GÜN | W66: LiG
D67: =form!$D$14 -> 0 | W67: =form!$Z$14 -> 0
P68: =form!$P$10 -> AY
D69: MAÇ NO | J69: SAAT | P69: =form!$P$13 -> YIL | W69: HAFTA | AC69: DEVRE
D70: =form!$D$18 -> 0 | J70: =form!$J$18 -> 0 | P70: =form!$P$16 -> KARŞILIĞI | W70: =form!$Z$18 -> 0 | AC70: =form!$AF$18 -> 0
D72: =form!$D$22 -> 0
D75: =form!$K$26 -> 0
D78: HAKEMLER | V78: BÖLGE | AC78: KLASMAN
G79: =form!$AT$5 -> 0 | V79: =form!$AX$9 -> 0 | AC79: =form!$BI$9 -> 0
G81: =form!$AT$15 -> 0 | V81: =form!$AX$19 -> 0 | AC81: =form!$BI$19 -> 0
G83: =form!$AT$23 -> 0 | V83: =form!$AX$27 -> 0 | AC83: =form!$BI$27 -> 0
G85: =form!$AT$31 -> 0 | V85: =form!$AX$35 -> 0 | AC85: =form!$BI$35 -> 0
D87: T.F.F.H.G.D. KONYA

Sheet mac_sonu
F3: ="LİG: " & form!Z14 -> LİG:
E5: ="DEVRE: " & form!AF18 & " " & "HAFTA: " & form!Z18 -> DEVRE: HAFTA:
E6: ,
B8: EV SAHİBİ TAKIM LOGO | L8: MİSAFİR TAKIM LOGO
F9: ="MAÇ KODU: " & form!D18 & CHAR(10) & "STAD: " & form!D14 & CHAR(10) & "TARİH: " & lig_bilgileri!AR35 & CHAR(10) & "SAAT: " & form!J18 & CHAR(10) -> MAÇ KODU: STAD: TARİH: SAAT:
B19: EV SAHİBİ TAKIM | I19: MİSAFİR TAKIM
B20: =form!D22 -> 0 | I20: =form!K26 -> 0
B21: İ. Y. | I21: İ. Y.
B22: M. S. | I22: M. S.
B24: S.K. | C24: DK. | D24: FORMA NO | E24: NEDEN | I24: S.K. | J24: DK. | K24: FORMA NO | L24: NEDEN
B25: 1 | I25: 1
B26: 2 | I26: 2
B27: 3 | I27: 3
B28: 4 | I28: 4
B29: 5 | I29: 5
B30: 6 | I30: 6
B31: 7 | I31: 7
B32: 8 | I32: 8
B34: K.K. | C34: DK. | D34: FORMA NO | E34: NEDEN | I34: K.K. | J34: DK. | K34: FORMA NO | L34: NEDEN
B35: 1 | I35: 1
B36: 2 | I36: 2
B37: 3 | I37: 3
B38: 4 | I38: 4
B40: DEĞ. | C40: DK. | D40: ÇIKAN NO | E40: GİREN NO | F40: NEDEN | I40: DEĞ. | J40: DK. | K40: ÇIKAN NO | L40: GİREN NO | M40: NEDEN
B41: 1 | I41: 1
B42: 2 | I42: 2
B43: 3 | I43: 3
B44: 4 | I44: 4
B45: 5 | I45: 5
B46: 6 | I46: 6
B47: 7 | I47: 7
B48: 8 | I48: 8
B50: GOL | C50: DK. | D50: FORMA NO | F50: TÜRÜ | I50: GOL | J50: DK. | K50: FORMA NO | M50: TÜRÜ
B51: 1 | I51: 1
B52: 2 | I52: 2
B53: 3 | I53: 3
B54: 4 | I54: 4
B55: 5 | I55: 5
B56: 6 | I56: 6
B57: 7 | I57: 7
...
